BEGIN:VCALENDAR
VERSION:2.0
PRODID:-//Anyticket - ECPv6.0.6.2//NONSGML v1.0//EN
CALSCALE:GREGORIAN
METHOD:PUBLISH
X-ORIGINAL-URL:https://anyticket.travel
X-WR-CALDESC:Мероприятия для Anyticket
REFRESH-INTERVAL;VALUE=DURATION:PT1H
X-Robots-Tag:noindex
X-PUBLISHED-TTL:PT1H
BEGIN:VTIMEZONE
TZID:Europe/Moscow
BEGIN:STANDARD
TZOFFSETFROM:+0300
TZOFFSETTO:+0300
TZNAME:MSK
DTSTART:20210101T000000
END:STANDARD
END:VTIMEZONE
BEGIN:VEVENT
DTSTART;TZID=Europe/Moscow:20210827T170000
DTEND;TZID=Europe/Moscow:20210827T190000
DTSTAMP:20260420T161216
CREATED:20210813T162438Z
LAST-MODIFIED:20230413T110942Z
UID:3871-1630083600-1630090800@anyticket.travel
SUMMARY:Экскурсия «Богудония - район рыбаков и контрабандистов» + угощение
DESCRIPTION:
URL:https://anyticket.travel/event-3/ekskursiya-bogudoniya-rajon-rybakov-i-kontrabandistov-ugoshhenie-2021-08-27/
LOCATION:Никольский храм\, Шевченко\, 28\, г. Таганрог\, 347913\, Российская Федерация
END:VEVENT
END:VCALENDAR