BEGIN:VCALENDAR
VERSION:2.0
PRODID:-//Anyticket - ECPv6.0.6.2//NONSGML v1.0//EN
CALSCALE:GREGORIAN
METHOD:PUBLISH
X-ORIGINAL-URL:https://anyticket.travel
X-WR-CALDESC:Мероприятия для Anyticket
REFRESH-INTERVAL;VALUE=DURATION:PT1H
X-Robots-Tag:noindex
X-PUBLISHED-TTL:PT1H
BEGIN:VTIMEZONE
TZID:Europe/Moscow
BEGIN:STANDARD
TZOFFSETFROM:+0300
TZOFFSETTO:+0300
TZNAME:MSK
DTSTART:20210101T000000
END:STANDARD
END:VTIMEZONE
BEGIN:VEVENT
DTSTART;TZID=Europe/Moscow:20210823T090000
DTEND;TZID=Europe/Moscow:20210823T113000
DTSTAMP:20260420T161207
CREATED:20210812T153753Z
LAST-MODIFIED:20211030T040534Z
UID:3839-1629709200-1629718200@anyticket.travel
SUMMARY:«От Дворца до Дворца». История архитектуры особняков Таганрога
DESCRIPTION:Экскурсия по замечательному старинному городу Таганрог «От Дворца до Дворца».\nМы расскажем об архитектурных стилях простым и ясным языком. А чтобы рассказ не был похож на лекцию\, познакомим туристов с историями этих домов и их выдающимися жильцами.\nНа экскурсии вы узнаете:\n— В каком монастыре прятались греческие революционеры.\n— Какими домами вдохновлены Чеховские рассказы и в каком особняке мечтал жить сам писатель.\n— Какие знаменитые строки Пушкин посвятил Таганрогу.\n— На какой дом мог претендовать Достоевский.\n— Как Айвазовский поблагодарил жителей города за прием.\nИ самое интересное….\n— Почему же дворец чиновника из Таганрога выглядит богаче дворца императора\, победившего Наполеона.
URL:https://anyticket.travel/event-3/ot-dvorcza-do-dvorcza-istoriya-arhitektury-osobnyakov-taganroga/
LOCATION:Дворец Александра I\, ул. Греческая\, 40\, г. Таганрог\, 347913\, Российская Федерация
ATTACH;FMTTYPE=image/jpeg:https://anyticket.travel/wp-content/uploads/2021/08/alferaki.jpg
END:VEVENT
END:VCALENDAR